BEGIN:VCALENDAR
VERSION:2.0
PRODID:-//Backyard Beekeeping Ballarat - ECPv5.0.1//NONSGML v1.0//EN
CALSCALE:GREGORIAN
METHOD:PUBLISH
X-WR-CALNAME:Backyard Beekeeping Ballarat
X-ORIGINAL-URL:https://backyardbeesballarat.com.au
X-WR-CALDESC:Events for Backyard Beekeeping Ballarat
BEGIN:VTIMEZONE
TZID:Australia/Melbourne
BEGIN:STANDARD
TZOFFSETFROM:+1100
TZOFFSETTO:+1000
TZNAME:AEST
DTSTART:20200404T160000
END:STANDARD
BEGIN:DAYLIGHT
TZOFFSETFROM:+1000
TZOFFSETTO:+1100
TZNAME:AEDT
DTSTART:20201003T160000
END:DAYLIGHT
END:VTIMEZONE
BEGIN:VEVENT
DTSTART;TZID=Australia/Melbourne:20200119T130000
DTEND;TZID=Australia/Melbourne:20200119T170000
DTSTAMP:20200225T020259
CREATED:20191210T011645Z
LAST-MODIFIED:20191210T012508Z
UID:4250-1579438800-1579453200@backyardbeesballarat.com.au
SUMMARY:Introduction to Beekeeping
DESCRIPTION:This four hour small group workshop teaches the important foundational skills and knowledge needed to start your beekeeping journey.\n\n\n\nWorkshop includes: \n\nLearning from an accomplished\, qualified beekeeper and trainer;\nReceive a copy of Bee AgSkills\, NSW \, Department of Primary Industries;\nPractical skills session including how to light a smoker and open and reassemble a beehive; and \nWorkshop handouts.\n\nTea and coffee and light afternoon tea if provided. \n \n\n\n\n
URL:https://backyardbeesballarat.com.au/event/introduction-to-beekeeping/
LOCATION:Backyard Beekeeping Ballarat\, 306 Errard Street South\, Ballarat Central\, VIC 3350\, Ballarat Central\, 3350\, AU
CATEGORIES:Workshops
ATTACH;FMTTYPE=image/jpeg:https://backyardbeesballarat.com.au/wp-content/uploads/2019/12/4250_image.jpg
GEO:-37.5677158;143.8473902
X-APPLE-STRUCTURED-LOCATION;VALUE=URI;X-ADDRESS=Backyard Beekeeping Ballarat 306 Errard Street South Ballarat Central VIC 3350 Ballarat Central 3350 AU;X-APPLE-RADIUS=500;X-TITLE=306 Errard Street South\, Ballarat Central\, VIC 3350:geo:143.8473902,-37.5677158
END:VEVENT
END:VCALENDAR