BEGIN:VCALENDAR
VERSION:2.0
PRODID:-//Backyard Beekeeping Ballarat - ECPv5.0.1//NONSGML v1.0//EN
CALSCALE:GREGORIAN
METHOD:PUBLISH
X-WR-CALNAME:Backyard Beekeeping Ballarat
X-ORIGINAL-URL:https://backyardbeesballarat.com.au
X-WR-CALDESC:Events for Backyard Beekeeping Ballarat
BEGIN:VTIMEZONE
TZID:Australia/Melbourne
BEGIN:STANDARD
TZOFFSETFROM:+1100
TZOFFSETTO:+1000
TZNAME:AEST
DTSTART:20200404T160000
END:STANDARD
BEGIN:DAYLIGHT
TZOFFSETFROM:+1000
TZOFFSETTO:+1100
TZNAME:AEDT
DTSTART:20201003T160000
END:DAYLIGHT
END:VTIMEZONE
BEGIN:VEVENT
DTSTART;TZID=Australia/Melbourne:20200208T130000
DTEND;TZID=Australia/Melbourne:20200208T170000
DTSTAMP:20200225T011006
CREATED:20190614T042948Z
LAST-MODIFIED:20190614T042948Z
UID:556-1581166800-1581181200@backyardbeesballarat.com.au
SUMMARY:Introduction to Beekeeping Workshop
DESCRIPTION:This four hour small group workshop teaches the important foundational skills and knowledge needed to start your beekeeping journey.\nWorkshop includes;\n\nLearn from an accomplished\, qualified beekeeper and trainer;\nReceive a copy of Bee AgSkills. NSW\, Department of Primary Industries;\nPractical skills session including how to light a smoker and open and reassemble a beehive; and\nWorkshop handouts\n\n \n
URL:https://backyardbeesballarat.com.au/event/introduction-to-beekeeping-workshop-5/
LOCATION:Backyard Beekeeping Ballarat\, 306 Errard Street South\, Ballarat Central\, VIC 3350\, Ballarat Central\, 3350\, AU
CATEGORIES:Workshops
ATTACH;FMTTYPE=image/jpeg:https://backyardbeesballarat.com.au/wp-content/uploads/2019/06/556_image.jpg
GEO:-37.5677158;143.8473902
X-APPLE-STRUCTURED-LOCATION;VALUE=URI;X-ADDRESS=Backyard Beekeeping Ballarat 306 Errard Street South Ballarat Central VIC 3350 Ballarat Central 3350 AU;X-APPLE-RADIUS=500;X-TITLE=306 Errard Street South\, Ballarat Central\, VIC 3350:geo:143.8473902,-37.5677158
END:VEVENT
BEGIN:VEVENT
DTSTART;TZID=Australia/Melbourne:20200222T140000
DTEND;TZID=Australia/Melbourne:20200222T160000
DTSTAMP:20200225T011006
CREATED:20200201T043718Z
LAST-MODIFIED:20200201T043718Z
UID:5386-1582380000-1582387200@backyardbeesballarat.com.au
SUMMARY:The Secret Life of Bees: Open Hive Experience
DESCRIPTION:The Secret Life of Bees: Open Hive experience in unique two hour session held at one our apiary sites around Ballarat. It is an opportunity to fulfill any lifelong curiosity you have for these fascinating insects and get up and personal with thousands of bees whose short life is dedicated to serving the queen and preparing for the next generation of bees. They are the most selfless and industrious creatures in the insect world. No beekeeping experience necessary. Full protective equipment supplied. Enjoy a curated honey and mead tasting afterwards and return home wth a beautiful honey gift as a momento of your experience. \n
URL:https://backyardbeesballarat.com.au/event/the-secret-life-of-bees-open-hive-experience-7/
LOCATION:Backyard Beekeeping Ballarat\, 306 Errard Street South\, Ballarat Central\, VIC 3350\, Ballarat Central\, 3350\, AU
CATEGORIES:Workshops
ATTACH;FMTTYPE=image/jpeg:https://backyardbeesballarat.com.au/wp-content/uploads/2020/02/5386_image.jpg
GEO:-37.5677158;143.8473902
X-APPLE-STRUCTURED-LOCATION;VALUE=URI;X-ADDRESS=Backyard Beekeeping Ballarat 306 Errard Street South Ballarat Central VIC 3350 Ballarat Central 3350 AU;X-APPLE-RADIUS=500;X-TITLE=306 Errard Street South\, Ballarat Central\, VIC 3350:geo:143.8473902,-37.5677158
END:VEVENT
BEGIN:VEVENT
DTSTART;TZID=Australia/Melbourne:20200223T130000
DTEND;TZID=Australia/Melbourne:20200223T170000
DTSTAMP:20200225T011006
CREATED:20191210T011335Z
LAST-MODIFIED:20191210T012519Z
UID:4242-1582462800-1582477200@backyardbeesballarat.com.au
SUMMARY:Introduction to Beekeeping Workshop
DESCRIPTION:This four hour small group workshop teaches the important foundational skills and knowledge needed to start your beekeeping journey.\nWorkshop includes;\n\nLearn from an accomplished\, qualified beekeeper and trainer;\nReceive a copy of Bee AgSkills. NSW\, Department of Primary Industries;\nPractical skills session including how to light a smoker and open and reassemble a beehive; and\nWorkshop handouts\n\n \n
URL:https://backyardbeesballarat.com.au/event/introduction-to-beekeeping-workshop-6/
LOCATION:Backyard Beekeeping Ballarat\, 306 Errard Street South\, Ballarat Central\, VIC 3350\, Ballarat Central\, 3350\, AU
CATEGORIES:Workshops
ATTACH;FMTTYPE=image/jpeg:https://backyardbeesballarat.com.au/wp-content/uploads/2019/12/4242_image.jpg
GEO:-37.5677158;143.8473902
X-APPLE-STRUCTURED-LOCATION;VALUE=URI;X-ADDRESS=Backyard Beekeeping Ballarat 306 Errard Street South Ballarat Central VIC 3350 Ballarat Central 3350 AU;X-APPLE-RADIUS=500;X-TITLE=306 Errard Street South\, Ballarat Central\, VIC 3350:geo:143.8473902,-37.5677158
END:VEVENT
END:VCALENDAR